BEGIN:VCALENDAR
VERSION:2.0
PRODID:-//eventon.com NONSGML v1.0//EN
CALSCALE:GREGORIAN
METHOD:PUBLISH
BEGIN:VEVENT
UID:69e89768101a3
DTSTAMP:20260422T093952Z
DTSTART:20260725T173000Z
DTEND:20260725T190000Z
LOCATION:
SUMMARY:Standkonzert beim Wirtshaus "Zum Zenzinger" in Wörnsmühl
DESCRIPTION:Standkonzert beim Wirtshaus "Zum Zenzinger" in Wörnsmühl Begi
 nn  19.30 Uhr \,  die Veranstaltung findet nur bei guter Witterung statt.\
 nhttps://musikkapelle-niklasreuth.de/events/standkonzert-beim-zenzinger-in-
 woernsmuehl/
URL:https://musikkapelle-niklasreuth.de/events/standkonzert-beim-zenzinger-in-woernsmuehl/
END:VEVENT
END:VCALENDAR