BEGIN:VCALENDAR
VERSION:2.0
PRODID:-//eventon.com NONSGML v1.0//EN
CALSCALE:GREGORIAN
METHOD:PUBLISH
BEGIN:VEVENT
UID:69e89633b8b07
DTSTAMP:20260422T093443Z
DTSTART:20260823T173000Z
DTEND:20260823T190000Z
LOCATION:
SUMMARY:Standkonzert beim Nägele in Wörnsmühl
DESCRIPTION:Standkonzert der Jugendkapelle beim Nägele in Wörnsmühl Begi
 nn: 19.30 Uhr\,  die Veranstaltung findet nur bei guter Witterung statt.\nh
 ttps://musikkapelle-niklasreuth.de/events/standkonzert-beim-naegele-in-woer
 nsmuehl-2/
URL:https://musikkapelle-niklasreuth.de/events/standkonzert-beim-naegele-in-woernsmuehl-2/
END:VEVENT
END:VCALENDAR