BEGIN:VCALENDAR
VERSION:2.0
PRODID:-//eventon.com NONSGML v1.0//EN
CALSCALE:GREGORIAN
METHOD:PUBLISH
BEGIN:VEVENT
UID:69e89699e0d2d
DTSTAMP:20260422T093625Z
DTSTART:20260814T170000Z
DTEND:20260814T183000Z
LOCATION:
SUMMARY:Standkonzert beim "Der Wirth " in Niklasreuth
DESCRIPTION:Standkonzert beim "Wirth" in Niklasreuth  im Biergarten Beginn
  19.00 Uhr \,  die Veranstaltung findet nur bei guter Witterung statt.\nhtt
 ps://musikkapelle-niklasreuth.de/events/standkonzert-beim-der-wirth-in-nikl
 asreuth/
URL:https://musikkapelle-niklasreuth.de/events/standkonzert-beim-der-wirth-in-niklasreuth/
END:VEVENT
END:VCALENDAR