BEGIN:VCALENDAR
VERSION:2.0
PRODID:-//eventon.com NONSGML v1.0//EN
CALSCALE:GREGORIAN
METHOD:PUBLISH
BEGIN:VEVENT
UID:69e89641931b8
DTSTAMP:20260422T093457Z
DTSTART:20260501T090000Z
DTEND:20260501T140000Z
LOCATION:
SUMMARY:Maibaumaufstellen in Niklasreuth
DESCRIPTION:Traditionelles Maibaumaufstellen in Niklasreuth beim Wirth Begi
 nn 11.00 Uhr\nhttps://musikkapelle-niklasreuth.de/events/maibaumaufstellen-
 in-niklasreuth/
URL:https://musikkapelle-niklasreuth.de/events/maibaumaufstellen-in-niklasreuth/
END:VEVENT
END:VCALENDAR