BEGIN:VCALENDAR
VERSION:2.0
PRODID:-//eventon.com NONSGML v1.0//EN
CALSCALE:GREGORIAN
METHOD:PUBLISH
BEGIN:VEVENT
UID:69eb35b5b4c2f
DTSTAMP:20260424T091949Z
DTSTART:20260711T173000Z
DTEND:20260711T190000Z
LOCATION:
SUMMARY:Standkonzert beim Nägele in Wörnsmühl
DESCRIPTION:Standkonzert beim Gasthaus Nägele in Wörnsmühl Beginn 19.30 
 Uhr \,  die Veranstaltung findet nur bei guter Witterung statt.\nhttps://mu
 sikkapelle-niklasreuth.de/events/standkonzert-beim-naegele-in-woernsmuehl/
URL:https://musikkapelle-niklasreuth.de/events/standkonzert-beim-naegele-in-woernsmuehl/
END:VEVENT
END:VCALENDAR