BEGIN:VCALENDAR
VERSION:2.0
PRODID:-//eventon.com NONSGML v1.0//EN
CALSCALE:GREGORIAN
METHOD:PUBLISH
BEGIN:VEVENT
UID:69e89772eae56
DTSTAMP:20260422T094002Z
DTSTART:20260628T173000Z
DTEND:20260628T190000Z
LOCATION:
SUMMARY:Standkonzert beim Wirtshaus "Zum Zenzinger" in Wörnsmühl
DESCRIPTION:Standkonzert beim Wirtshaus "Zum Zenzinger" in Wörnsmühl Begi
 nn 19.30 Uhr\,  die Veranstaltung findet nur bei guter Witterung statt.\nht
 tps://musikkapelle-niklasreuth.de/events/standkonzert-so-28-juni-2026/
URL:https://musikkapelle-niklasreuth.de/events/standkonzert-so-28-juni-2026/
END:VEVENT
END:VCALENDAR